BEGIN:VCALENDAR
VERSION:2.0
PRODID:-//Integrative Health Practitioner Institute - ECPv6.13.2.1//NONSGML v1.0//EN
CALSCALE:GREGORIAN
METHOD:PUBLISH
X-WR-CALNAME:Integrative Health Practitioner Institute
X-ORIGINAL-URL:https://practitioner.integrativehealthpractitioner.org
X-WR-CALDESC:Events for Integrative Health Practitioner Institute
REFRESH-INTERVAL;VALUE=DURATION:PT1H
X-Robots-Tag:noindex
X-PUBLISHED-TTL:PT1H
BEGIN:VTIMEZONE
TZID:America/New_York
BEGIN:DAYLIGHT
TZOFFSETFROM:-0500
TZOFFSETTO:-0400
TZNAME:EDT
DTSTART:20260308T070000
END:DAYLIGHT
BEGIN:STANDARD
TZOFFSETFROM:-0400
TZOFFSETTO:-0500
TZNAME:EST
DTSTART:20261101T060000
END:STANDARD
END:VTIMEZONE
BEGIN:VTIMEZONE
TZID:America/New_York
BEGIN:DAYLIGHT
TZOFFSETFROM:-0500
TZOFFSETTO:-0400
TZNAME:EDT
DTSTART:20260308T070000
END:DAYLIGHT
BEGIN:STANDARD
TZOFFSETFROM:-0400
TZOFFSETTO:-0500
TZNAME:EST
DTSTART:20261101T060000
END:STANDARD
END:VTIMEZONE
BEGIN:VEVENT
DTSTART;TZID=America/New_York:20260107T130000
DTEND;TZID=America/New_York:20260107T140000
DTSTAMP:20260425T102930
CREATED:20250918T174811Z
LAST-MODIFIED:20250918T174811Z
UID:20120-1767790800-1767794400@practitioner.integrativehealthpractitioner.org
SUMMARY:Member Exclusive: IHP Coaching Office Hours - L2: Thyroid & Adrenal Hormone Tests
DESCRIPTION:Join us for a chance to learn from Dr. Cabral’s team of experienced IHP Health Coaches on biweekly live Zoom calls. Each week we’ll focus on a different functional health lab and related protocols. \nIf you’d like additional support while going through the IHP curriculum\, or even while taking on new clients\, this is the place to be! \nVisit Level 2\, Module 1: IHP Coaching Office Hours for the Zoom link and to submit your questions. Questions will be accepted up to 48 hours before the call. \nWe hope to see you there!
URL:https://practitioner.integrativehealthpractitioner.org/event/member-exclusive-ihp-coaching-office-hours-l2-thyroid-adrenal-hormone-tests-2/
ATTACH;FMTTYPE=image/png:https://practitioner.integrativehealthpractitioner.org/wp-content/uploads/2025/09/OH-L2_01-7-SQ.png
END:VEVENT
BEGIN:VEVENT
DTSTART;TZID=America/New_York:20260107T170000
DTEND;TZID=America/New_York:20260107T180000
DTSTAMP:20260425T102930
CREATED:20251113T152923Z
LAST-MODIFIED:20251223T135221Z
UID:20468-1767805200-1767808800@practitioner.integrativehealthpractitioner.org
SUMMARY:Member Exclusive: New Student Orientation Call
DESCRIPTION:Join us for our New Student Orientation call for new IHP members\, led by one of our IHP graduates\, This virtual meet-up serves to give you a basic introduction to the IHP course as you get started.
URL:https://practitioner.integrativehealthpractitioner.org/event/member-exclusive-new-student-orientation-call-52/
ATTACH;FMTTYPE=image/png:https://practitioner.integrativehealthpractitioner.org/wp-content/uploads/2025/11/NSO_12.04-SQ-2.png
END:VEVENT
BEGIN:VEVENT
DTSTART;TZID=America/New_York:20260108T150000
DTEND;TZID=America/New_York:20260108T160000
DTSTAMP:20260425T102930
CREATED:20251210T150359Z
LAST-MODIFIED:20251210T152123Z
UID:20667-1767884400-1767888000@practitioner.integrativehealthpractitioner.org
SUMMARY:Member Exclusive: Mastery Open House with Dr. Cabral
DESCRIPTION:Join Dr. Cabral and Erica Hull as they host a live Open House Q&A on Zoom specifically about our Mastery Certification! If you've been considering Mastery this is the time to join us and ask all your questions about the Mastery certification program\, what it takes to establish a career in this industry and more. We can't wait to connect with you all live soon!
URL:https://practitioner.integrativehealthpractitioner.org/event/member-exclusive-mastery-open-house-with-dr-cabral/
ATTACH;FMTTYPE=image/png:https://practitioner.integrativehealthpractitioner.org/wp-content/uploads/2025/12/Mastery-OH-SQ.png
END:VEVENT
BEGIN:VEVENT
DTSTART;TZID=America/New_York:20260113T120000
DTEND;TZID=America/New_York:20260113T130000
DTSTAMP:20260425T102930
CREATED:20251208T221247Z
LAST-MODIFIED:20251208T221247Z
UID:20656-1768305600-1768309200@practitioner.integrativehealthpractitioner.org
SUMMARY:Member Exclusive: IHP2 Live Q&A with Julia Hayes
DESCRIPTION:Julia Hayes is going live today with a special Q&A just for our IHP Level 2 students!\nThis is your chance to bring your questions directly to us in real time. We’ll be prioritizing questions asked in the Zoom chat\, and if time allows\, we’ll also cover those submitted in advance in the Facebook event comments.\nDon’t miss this opportunity to connect\, learn\, and get your questions answered—we can’t wait to see you there! Zoom Links are posted in the L2 FB group and sent via email.
URL:https://practitioner.integrativehealthpractitioner.org/event/member-exclusive-ihp2-live-qa-with-julia-hayes-v12/
ATTACH;FMTTYPE=image/png:https://practitioner.integrativehealthpractitioner.org/wp-content/uploads/2025/12/QA-L2_1.13-SQ.png
END:VEVENT
BEGIN:VEVENT
DTSTART;TZID=America/New_York:20260113T130000
DTEND;TZID=America/New_York:20260113T133000
DTSTAMP:20260425T102930
CREATED:20251210T154954Z
LAST-MODIFIED:20251210T155236Z
UID:20666-1768309200-1768311000@practitioner.integrativehealthpractitioner.org
SUMMARY:Prospective Students: Open House with Dr. Cabral
DESCRIPTION:Join Dr. Cabral as he hosts a live Open House Q&A on our Instagram handle (IHP_Certification)! If you’ve been considering IHP this is the time to join us and ask all your questions about health coaching\, the IHP certification program\, what it takes to establish a career in this industry and more. Feel free to submit questions early by sending us a DM on Instagram. We can’t wait to connect with you all live soon!
URL:https://practitioner.integrativehealthpractitioner.org/event/prospective-students-open-house-with-dr-cabral-11/
ATTACH;FMTTYPE=image/png:https://practitioner.integrativehealthpractitioner.org/wp-content/uploads/2025/12/OpenHouse_1.13_SQ.png
END:VEVENT
BEGIN:VEVENT
DTSTART;TZID=America/New_York:20260114T150000
DTEND;TZID=America/New_York:20260114T160000
DTSTAMP:20260425T102930
CREATED:20250918T174249Z
LAST-MODIFIED:20250918T174249Z
UID:20110-1768402800-1768406400@practitioner.integrativehealthpractitioner.org
SUMMARY:Member Exclusive: IHP Coaching Office Hours - L1: Success Mindset
DESCRIPTION:Join us for a chance to learn from Dr. Cabral’s team of experienced IHP Health Coaches on biweekly live Zoom calls. Each week we’ll focus on a different topic from the DESTRESS protocol. \nIf you’d like additional support while going through the IHP curriculum\, or even while taking on new clients\, this is the place to be! \nVisit Level 1\, Module 1: IHP Coaching Office Hours for the Zoom link and to submit your questions. Questions will be accepted up to 48 hours before the call. \nWe hope to see you there!
URL:https://practitioner.integrativehealthpractitioner.org/event/member-exclusive-ihp-coaching-office-hours-l1-success-mindset-2/
ATTACH;FMTTYPE=image/png:https://practitioner.integrativehealthpractitioner.org/wp-content/uploads/2025/09/OH-L1_01-14-SQ.png
END:VEVENT
BEGIN:VEVENT
DTSTART;TZID=America/New_York:20260115T140000
DTEND;TZID=America/New_York:20260115T150000
DTSTAMP:20260425T102930
CREATED:20251208T212407Z
LAST-MODIFIED:20251208T212407Z
UID:20646-1768485600-1768489200@practitioner.integrativehealthpractitioner.org
SUMMARY:Member Exclusive: IHP Live Q&A with Jenn Todd
DESCRIPTION:Jenn is going live today with a special Q&A just for our IHP Level 1 students!\nThis is your chance to bring your questions directly to us in real time. We’ll be prioritizing questions asked in the Zoom chat\, and if time allows\, we’ll also cover those submitted in advance in the Facebook event comments.\nDon’t miss this opportunity to connect\, learn\, and get your questions answered—we can’t wait to see you there!
URL:https://practitioner.integrativehealthpractitioner.org/event/member-exclusive-ihp-live-qa-with-jenn-todd-3/
ATTACH;FMTTYPE=image/png:https://practitioner.integrativehealthpractitioner.org/wp-content/uploads/2025/12/QA-L1_01.15_SQ.png
END:VEVENT
BEGIN:VEVENT
DTSTART;TZID=America/New_York:20260119T000000
DTEND;TZID=America/New_York:20260119T235900
DTSTAMP:20260425T102930
CREATED:20251215T041714Z
LAST-MODIFIED:20251215T041816Z
UID:20696-1768780800-1768867140@practitioner.integrativehealthpractitioner.org
SUMMARY:Member Exclusive: Last Day to Enroll in Mastery
DESCRIPTION:Don’t miss your chance to be apart of the Mastery class for 2026! This course will elevate you and your business as a health coach! Sign up today to start on January 19th! Learn more by clicking here.
URL:https://practitioner.integrativehealthpractitioner.org/event/member-exclusive-last-day-to-enroll-in-mastery-2/
ATTACH;FMTTYPE=image/png:https://practitioner.integrativehealthpractitioner.org/wp-content/uploads/2025/12/Mastery-Launch.png
END:VEVENT
BEGIN:VEVENT
DTSTART;TZID=America/New_York:20260119T100000
DTEND;TZID=America/New_York:20260119T235900
DTSTAMP:20260425T102930
CREATED:20251204T201835Z
LAST-MODIFIED:20251204T201835Z
UID:20586-1768816800-1768867140@practitioner.integrativehealthpractitioner.org
SUMMARY:Member Exclusive: Mastery Module 1 Opens
DESCRIPTION:On January 19th\, Module 1 will be available to all Mastery students. Make sure to log in to your course library to hear Dr. Cabral teach about the Introduction to IHPI Mastery.
URL:https://practitioner.integrativehealthpractitioner.org/event/member-exclusive-mastery-module-1-opens-2/
ATTACH;FMTTYPE=image/png:https://practitioner.integrativehealthpractitioner.org/wp-content/uploads/2025/12/MasteryM1-Release-SQ.png
END:VEVENT
BEGIN:VEVENT
DTSTART;TZID=America/New_York:20260121T140000
DTEND;TZID=America/New_York:20260121T150000
DTSTAMP:20260425T102930
CREATED:20251210T155830Z
LAST-MODIFIED:20260113T190753Z
UID:20676-1769004000-1769007600@practitioner.integrativehealthpractitioner.org
SUMMARY:Member Exclusive: IHP3 Live Q&A
DESCRIPTION:Dr. Cabral  is going live today with a special Q&A just for our IHP Level 3 students!\nThis is your chance to bring your questions directly to us in real time. We’ll be prioritizing questions asked in the Zoom chat\, and if time allows\, we’ll also cover those submitted in advance in the Facebook event comments.\nDon’t miss this opportunity to connect\, learn\, and get your questions answered—we can’t wait to see you there! Zoom Links are posted in the L3 FB group and sent via email.
URL:https://practitioner.integrativehealthpractitioner.org/event/member-exclusive-ihp3-live-qa-4/
ATTACH;FMTTYPE=image/png:https://practitioner.integrativehealthpractitioner.org/wp-content/uploads/2025/12/QA-L3_1.21-SQ.png
END:VEVENT
BEGIN:VEVENT
DTSTART;TZID=America/New_York:20260121T150000
DTEND;TZID=America/New_York:20260121T160000
DTSTAMP:20260425T102930
CREATED:20260103T203302Z
LAST-MODIFIED:20260103T203302Z
UID:20810-1769007600-1769011200@practitioner.integrativehealthpractitioner.org
SUMMARY:Member Exclusive: IHP Coaching Office Hours - L1: Diet & Exercise
DESCRIPTION:Join us for a chance to learn from Dr. Cabral’s team of experienced IHP Health Coaches on biweekly live Zoom calls. Each week we’ll focus on a different topic from the DESTRESS protocol. \nIf you’d like additional support while going through the IHP curriculum\, or even while taking on new clients\, this is the place to be!\n\nVisit Level 1\, Module 1: IHP Coaching Office Hours for the Zoom link and to submit your questions. Questions will be accepted up to 48 hours before the call.\n\nWe hope to see you there!
URL:https://practitioner.integrativehealthpractitioner.org/event/member-exclusive-ihp-coaching-office-hours-l1-diet-exercise-3/
ATTACH;FMTTYPE=image/png:https://practitioner.integrativehealthpractitioner.org/wp-content/uploads/2026/01/OH-L1_1-21-SQ.png
END:VEVENT
BEGIN:VEVENT
DTSTART;TZID=America/New_York:20260122T153000
DTEND;TZID=America/New_York:20260122T163000
DTSTAMP:20260425T102930
CREATED:20251204T202258Z
LAST-MODIFIED:20251229T185330Z
UID:20590-1769095800-1769099400@practitioner.integrativehealthpractitioner.org
SUMMARY:Member Exclusive: Mastery Workshop – Module 1
DESCRIPTION:On January 22nd at 3:30 PM EST\, Dr. Cabral will be live for the Module 1 workshop! Erica Hull will join him as they take you through an introduction to the Mastery Series.
URL:https://practitioner.integrativehealthpractitioner.org/event/member-exclusive-mastery-workshop-module-1-5/
ATTACH;FMTTYPE=image/png:https://practitioner.integrativehealthpractitioner.org/wp-content/uploads/2025/12/MasteryM1-SQ-1.png
END:VEVENT
BEGIN:VEVENT
DTSTART;TZID=America/New_York:20260126T100000
DTEND;TZID=America/New_York:20260126T235900
DTSTAMP:20260425T102930
CREATED:20251204T202035Z
LAST-MODIFIED:20251204T202035Z
UID:20588-1769421600-1769471940@practitioner.integrativehealthpractitioner.org
SUMMARY:Member Exclusive: Mastery Module 2 Opens
DESCRIPTION:On January 26th\, Module 2 will be available to all Mastery students. Make sure to log in to your course library to hear Erica teach about Creating a Powerful Coaching Agreement.
URL:https://practitioner.integrativehealthpractitioner.org/event/member-exclusive-mastery-module-2-opens-2/
ATTACH;FMTTYPE=image/png:https://practitioner.integrativehealthpractitioner.org/wp-content/uploads/2025/12/MasteryM2-Release-SQ.png
END:VEVENT
BEGIN:VEVENT
DTSTART;TZID=America/New_York:20260126T150000
DTEND;TZID=America/New_York:20260126T160000
DTSTAMP:20260425T102930
CREATED:20251210T161726Z
LAST-MODIFIED:20260113T200501Z
UID:20679-1769439600-1769443200@practitioner.integrativehealthpractitioner.org
SUMMARY:HPH Member Exclusive: HPH Live Q&A
DESCRIPTION:Dr.Cabral is going live today with a special Q&A just for our HPH students!\nThis is your chance to bring your questions directly to us in real time. We’ll be prioritizing questions asked in the Zoom chat\, and if time allows\, we’ll also cover those submitted in advance in the Facebook event comments.\nDon’t miss this opportunity to connect\, learn\, and get your questions answered—we can’t wait to see you there! Zoom Links are posted in the HPH FB group and sent via email.
URL:https://practitioner.integrativehealthpractitioner.org/event/hph-member-exclusive-hph-live-qa/
ATTACH;FMTTYPE=image/png:https://practitioner.integrativehealthpractitioner.org/wp-content/uploads/2025/12/QA-HPH-1.26-SQ.png
END:VEVENT
BEGIN:VEVENT
DTSTART;TZID=America/New_York:20260128T130000
DTEND;TZID=America/New_York:20260128T140000
DTSTAMP:20260425T102930
CREATED:20260103T204054Z
LAST-MODIFIED:20260103T204054Z
UID:20823-1769605200-1769608800@practitioner.integrativehealthpractitioner.org
SUMMARY:Member Exclusive: IHP Coaching Office Hours - L2: Food Sensitivity & Omega Tests
DESCRIPTION:Join us for a chance to learn from Dr. Cabral’s team of experienced IHP Health Coaches on biweekly live Zoom calls. Each week we’ll focus on a different functional health lab and related protocols.\n\nIf you’d like additional support while going through the IHP curriculum\, or even while taking on new clients\, this is the place to be!\n\nVisit Level 2\, Module 1: IHP Coaching Office Hours for the Zoom link and to submit your questions. Questions will be accepted up to 48 hours before the call.\n\nWe hope to see you there!
URL:https://practitioner.integrativehealthpractitioner.org/event/member-exclusive-ihp-coaching-office-hours-l2-food-sensitivity-omega-tests-3/
ATTACH;FMTTYPE=image/png:https://practitioner.integrativehealthpractitioner.org/wp-content/uploads/2026/01/OH-L2_1-28_SQ.png
END:VEVENT
END:VCALENDAR